BEGIN:VCALENDAR
VERSION:2.0
PRODID:-//wp-events-plugin.com//7.2.3.1//EN
TZID:Europe/Helsinki
X-WR-TIMEZONE:Europe/Helsinki
BEGIN:VEVENT
UID:867@keskipohjanmaanmobilistit.fi
DTSTART;TZID=Europe/Helsinki:20241123T140000
DTEND;TZID=Europe/Helsinki:20241123T170000
DTSTAMP:20241104T123042Z
URL:https://www.keskipohjanmaanmobilistit.fi/kaikki-tapahtumat/saantomaara
 inen-syyskokous-lagstadgat-hostmote-2024/
SUMMARY:Sääntömääräinen syyskokous / Lagstadgat höstmöte 2024
DESCRIPTION:Sääntömääräinen syyskokous / Lagstadgat höstmöte 2024\n
 23.11.2024 14:00
LOCATION:Villa Elba\, Sannanrannantie 60\, Kokkola\, 67200\, Suomi
X-APPLE-STRUCTURED-LOCATION;VALUE=URI;X-ADDRESS=Sannanrannantie 60\, Kokkol
 a\, 67200\, Suomi;X-APPLE-RADIUS=100;X-TITLE=Villa Elba:geo:0,0
END:VEVENT
BEGIN:VTIMEZONE
TZID:Europe/Helsinki
X-LIC-LOCATION:Europe/Helsinki
BEGIN:STANDARD
DTSTART:20241027T030000
TZOFFSETFROM:+0300
TZOFFSETTO:+0200
TZNAME:EET
END:STANDARD
END:VTIMEZONE
END:VCALENDAR