BEGIN:VCALENDAR
VERSION:2.0
PRODID:-//wp-events-plugin.com//7.2.3.1//EN
TZID:Europe/Helsinki
X-WR-TIMEZONE:Europe/Helsinki
BEGIN:VEVENT
UID:868@keskipohjanmaanmobilistit.fi
DTSTART;TZID=Europe/Helsinki:20250413T120000
DTEND;TZID=Europe/Helsinki:20250413T140000
DTSTAMP:20250331T064929Z
URL:https://www.keskipohjanmaanmobilistit.fi/kaikki-tapahtumat/saantomaara
 inen-kevatkokous-lagstadgat-varmote-4/
SUMMARY:Sääntömääräinen kevätkokous / Lagstadgat vårmöte
DESCRIPTION:Sääntömääräinen kevätkokous / Lagstadgat vårmöte\n13.4
 .2025 kl 12.00
LOCATION:Kerhotila\, Hassisentie 134\, Kokkola\, Suomi
X-APPLE-STRUCTURED-LOCATION;VALUE=URI;X-ADDRESS=Hassisentie 134\, Kokkola\,
  Suomi;X-APPLE-RADIUS=100;X-TITLE=Kerhotila:geo:0,0
END:VEVENT
BEGIN:VTIMEZONE
TZID:Europe/Helsinki
X-LIC-LOCATION:Europe/Helsinki
BEGIN:DAYLIGHT
DTSTART:20250330T040000
TZOFFSETFROM:+0200
TZOFFSETTO:+0300
TZNAME:EEST
END:DAYLIGHT
END:VTIMEZONE
END:VCALENDAR