BEGIN:VCALENDAR
VERSION:2.0
PRODID:-//wp-events-plugin.com//7.2.3.1//EN
TZID:Europe/Helsinki
X-WR-TIMEZONE:Europe/Helsinki
BEGIN:VEVENT
UID:870@keskipohjanmaanmobilistit.fi
DTSTART;TZID=Europe/Helsinki;VALUE=DATE:20250427
DTEND;TZID=Europe/Helsinki;VALUE=DATE:20250428
DTSTAMP:20250218T183354Z
URL:https://www.keskipohjanmaanmobilistit.fi/kaikki-tapahtumat/museoajoneu
 vopaiva-3/
SUMMARY:Museoajoneuvopäivä
DESCRIPTION:Museoajoneuvopäivä Plus katsastuksen tiloissa.
LOCATION:Plus Katsastus Kokkola\, Höyläämönkatu 3\, Kokkola\, 67100\, S
 uomi
X-APPLE-STRUCTURED-LOCATION;VALUE=URI;X-ADDRESS=Höyläämönkatu 3\, Kokko
 la\, 67100\, Suomi;X-APPLE-RADIUS=100;X-TITLE=Plus Katsastus Kokkola:geo:0
 ,0
END:VEVENT
BEGIN:VTIMEZONE
TZID:Europe/Helsinki
X-LIC-LOCATION:Europe/Helsinki
BEGIN:DAYLIGHT
DTSTART:20250330T040000
TZOFFSETFROM:+0200
TZOFFSETTO:+0300
TZNAME:EEST
END:DAYLIGHT
END:VTIMEZONE
END:VCALENDAR